BEGIN:VCALENDAR
VERSION:2.0
PRODID:-//City Arsenal Events - ECPv6.15.20//NONSGML v1.0//EN
CALSCALE:GREGORIAN
METHOD:PUBLISH
X-WR-CALNAME:City Arsenal Events
X-ORIGINAL-URL:https://events.cityarsenal.com
X-WR-CALDESC:Events for City Arsenal Events
REFRESH-INTERVAL;VALUE=DURATION:PT1H
X-Robots-Tag:noindex
X-PUBLISHED-TTL:PT1H
BEGIN:VTIMEZONE
TZID:America/New_York
BEGIN:DAYLIGHT
TZOFFSETFROM:-0500
TZOFFSETTO:-0400
TZNAME:EDT
DTSTART:20240310T070000
END:DAYLIGHT
BEGIN:STANDARD
TZOFFSETFROM:-0400
TZOFFSETTO:-0500
TZNAME:EST
DTSTART:20241103T060000
END:STANDARD
BEGIN:DAYLIGHT
TZOFFSETFROM:-0500
TZOFFSETTO:-0400
TZNAME:EDT
DTSTART:20250309T070000
END:DAYLIGHT
BEGIN:STANDARD
TZOFFSETFROM:-0400
TZOFFSETTO:-0500
TZNAME:EST
DTSTART:20251102T060000
END:STANDARD
BEGIN:DAYLIGHT
TZOFFSETFROM:-0500
TZOFFSETTO:-0400
TZNAME:EDT
DTSTART:20260308T070000
END:DAYLIGHT
BEGIN:STANDARD
TZOFFSETFROM:-0400
TZOFFSETTO:-0500
TZNAME:EST
DTSTART:20261101T060000
END:STANDARD
END:VTIMEZONE
BEGIN:VEVENT
DTSTART;TZID=America/New_York:20250629T090000
DTEND;TZID=America/New_York:20250629T173000
DTSTAMP:20260420T201442
CREATED:20250329T124325Z
LAST-MODIFIED:20250329T124325Z
UID:10001008-1751187600-1751218200@events.cityarsenal.com
SUMMARY:S.C. Concealed Weapons Permit (CWP)
DESCRIPTION:S.C. Concealed Weapons Permit (CWP). The course covers the legal aspects of carrying a firearm and the laws governing the use of lethal force\, as well as safety\, firearms and ammunition options. A written and shooting test will follow the class session. \nThe cost of this class also includes fingerprinting and certified letter postage to mail the application to SLED. Plus\, students receive Fee includes two (2) complimentary Range Passes (offer does not include rentals\, ammo\, or targets). \nPLEASE NOTE: Class fees are non-refundable. If you need to reschedule\, a request must be sent by email three days prior to your class date. \nEQUIPMENT NEEDED: Handgun with at least 50 rounds of ammunition\, eye and ear protection\, and a valid South Carolina Driver License with current address. A firearm and eye/ear protection can be provided free of charge for course use if needed (use of City Arsenal firearms requires the purchase of in-store ammunition). \nPREREQUISITES: None. However\, students may find Personal Instruction or the Intro to Handgun course beneficial in preparing for the CWP course. \nAGE REQUIREMENTS: 18+ \nTIME: Approx. 8 hours \nLOCATION: 1210 Poinsett Highway Greenville\, SC. 29609
URL:https://events.cityarsenal.com/event/s-c-concealed-weapons-permit-cwp-99/
LOCATION:City Arsenal\, Inc.\, 1210 Poinsett Highway\, Greenville\, SC\, 29609\, United States
END:VEVENT
BEGIN:VEVENT
DTSTART;TZID=America/New_York:20250628T090000
DTEND;TZID=America/New_York:20250628T173000
DTSTAMP:20260420T201442
CREATED:20250329T124239Z
LAST-MODIFIED:20250329T124239Z
UID:10001007-1751101200-1751131800@events.cityarsenal.com
SUMMARY:S.C. Concealed Weapons Permit (CWP)
DESCRIPTION:S.C. Concealed Weapons Permit (CWP). The course covers the legal aspects of carrying a firearm and the laws governing the use of lethal force\, as well as safety\, firearms and ammunition options. A written and shooting test will follow the class session. \nThe cost of this class also includes fingerprinting and certified letter postage to mail the application to SLED. Plus\, students receive Fee includes two (2) complimentary Range Passes (offer does not include rentals\, ammo\, or targets). \nPLEASE NOTE: Class fees are non-refundable. If you need to reschedule\, a request must be sent by email three days prior to your class date. \nEQUIPMENT NEEDED: Handgun with at least 50 rounds of ammunition\, eye and ear protection\, and a valid South Carolina Driver License with current address. A firearm and eye/ear protection can be provided free of charge for course use if needed (use of City Arsenal firearms requires the purchase of in-store ammunition). \nPREREQUISITES: None. However\, students may find Personal Instruction or the Intro to Handgun course beneficial in preparing for the CWP course. \nAGE REQUIREMENTS: 18+ \nTIME: Approx. 8 hours \nLOCATION: 1210 Poinsett Highway Greenville\, SC. 29609
URL:https://events.cityarsenal.com/event/s-c-concealed-weapons-permit-cwp-98/
LOCATION:City Arsenal\, Inc.\, 1210 Poinsett Highway\, Greenville\, SC\, 29609\, United States
END:VEVENT
BEGIN:VEVENT
DTSTART;TZID=America/New_York:20250625T090000
DTEND;TZID=America/New_York:20250625T173000
DTSTAMP:20260420T201442
CREATED:20250329T124208Z
LAST-MODIFIED:20250329T124208Z
UID:10001006-1750842000-1750872600@events.cityarsenal.com
SUMMARY:S.C. Concealed Weapons Permit (CWP)
DESCRIPTION:S.C. Concealed Weapons Permit (CWP). The course covers the legal aspects of carrying a firearm and the laws governing the use of lethal force\, as well as safety\, firearms and ammunition options. A written and shooting test will follow the class session. \nThe cost of this class also includes fingerprinting and certified letter postage to mail the application to SLED. Plus\, students receive Fee includes two (2) complimentary Range Passes (offer does not include rentals\, ammo\, or targets). \nPLEASE NOTE: Class fees are non-refundable. If you need to reschedule\, a request must be sent by email three days prior to your class date. \nEQUIPMENT NEEDED: Handgun with at least 50 rounds of ammunition\, eye and ear protection\, and a valid South Carolina Driver License with current address. A firearm and eye/ear protection can be provided free of charge for course use if needed (use of City Arsenal firearms requires the purchase of in-store ammunition). \nPREREQUISITES: None. However\, students may find Personal Instruction or the Intro to Handgun course beneficial in preparing for the CWP course. \nAGE REQUIREMENTS: 18+ \nTIME: Approx. 8 hours \nLOCATION: 1210 Poinsett Highway Greenville\, SC. 29609
URL:https://events.cityarsenal.com/event/s-c-concealed-weapons-permit-cwp-97/
LOCATION:City Arsenal\, Inc.\, 1210 Poinsett Highway\, Greenville\, SC\, 29609\, United States
END:VEVENT
BEGIN:VEVENT
DTSTART;TZID=America/New_York:20250621T090000
DTEND;TZID=America/New_York:20250621T173000
DTSTAMP:20260420T201442
CREATED:20250329T124105Z
LAST-MODIFIED:20250329T124105Z
UID:10001004-1750496400-1750527000@events.cityarsenal.com
SUMMARY:S.C. Concealed Weapons Permit (CWP)
DESCRIPTION:S.C. Concealed Weapons Permit (CWP). The course covers the legal aspects of carrying a firearm and the laws governing the use of lethal force\, as well as safety\, firearms and ammunition options. A written and shooting test will follow the class session. \nThe cost of this class also includes fingerprinting and certified letter postage to mail the application to SLED. Plus\, students receive Fee includes two (2) complimentary Range Passes (offer does not include rentals\, ammo\, or targets). \nPLEASE NOTE: Class fees are non-refundable. If you need to reschedule\, a request must be sent by email three days prior to your class date. \nEQUIPMENT NEEDED: Handgun with at least 50 rounds of ammunition\, eye and ear protection\, and a valid South Carolina Driver License with current address. A firearm and eye/ear protection can be provided free of charge for course use if needed (use of City Arsenal firearms requires the purchase of in-store ammunition). \nPREREQUISITES: None. However\, students may find Personal Instruction or the Intro to Handgun course beneficial in preparing for the CWP course. \nAGE REQUIREMENTS: 18+ \nTIME: Approx. 8 hours \nLOCATION: 1210 Poinsett Highway Greenville\, SC. 29609
URL:https://events.cityarsenal.com/event/s-c-concealed-weapons-permit-cwp-95/
LOCATION:City Arsenal\, Inc.\, 1210 Poinsett Highway\, Greenville\, SC\, 29609\, United States
END:VEVENT
BEGIN:VEVENT
DTSTART;TZID=America/New_York:20250615T090000
DTEND;TZID=America/New_York:20250615T173000
DTSTAMP:20260420T201442
CREATED:20250610T183935Z
LAST-MODIFIED:20250610T183935Z
UID:10001033-1749978000-1750008600@events.cityarsenal.com
SUMMARY:S.C. Concealed Weapons Permit (CWP)
DESCRIPTION:S.C. Concealed Weapons Permit (CWP). The course covers the legal aspects of carrying a firearm and the laws governing the use of lethal force\, as well as safety\, firearms and ammunition options. A written and shooting test will follow the class session. \nThe cost of this class also includes fingerprinting and certified letter postage to mail the application to SLED. Plus\, students receive Fee includes two (2) complimentary Range Passes (offer does not include rentals\, ammo\, or targets). \nPLEASE NOTE: Class fees are non-refundable. If you need to reschedule\, a request must be sent by email three days prior to your class date. \nEQUIPMENT NEEDED: Handgun with at least 50 rounds of ammunition\, eye and ear protection\, and a valid South Carolina Driver License with current address. A firearm and eye/ear protection can be provided free of charge for course use if needed (use of City Arsenal firearms requires the purchase of in-store ammunition). \nPREREQUISITES: None. However\, students may find Personal Instruction or the Intro to Handgun course beneficial in preparing for the CWP course. \nAGE REQUIREMENTS: 18+ \nTIME: Approx. 8 hours \nLOCATION: 1210 Poinsett Highway Greenville\, SC. 29609
URL:https://events.cityarsenal.com/event/s-c-concealed-weapons-permit-cwp-117/
LOCATION:City Arsenal\, Inc.\, 1210 Poinsett Highway\, Greenville\, SC\, 29609\, United States
END:VEVENT
BEGIN:VEVENT
DTSTART;TZID=America/New_York:20250614T090000
DTEND;TZID=America/New_York:20250614T173000
DTSTAMP:20260420T201442
CREATED:20250329T124007Z
LAST-MODIFIED:20250329T124007Z
UID:10001002-1749891600-1749922200@events.cityarsenal.com
SUMMARY:S.C. Concealed Weapons Permit (CWP)
DESCRIPTION:S.C. Concealed Weapons Permit (CWP). The course covers the legal aspects of carrying a firearm and the laws governing the use of lethal force\, as well as safety\, firearms and ammunition options. A written and shooting test will follow the class session. \nThe cost of this class also includes fingerprinting and certified letter postage to mail the application to SLED. Plus\, students receive Fee includes two (2) complimentary Range Passes (offer does not include rentals\, ammo\, or targets). \nPLEASE NOTE: Class fees are non-refundable. If you need to reschedule\, a request must be sent by email three days prior to your class date. \nEQUIPMENT NEEDED: Handgun with at least 50 rounds of ammunition\, eye and ear protection\, and a valid South Carolina Driver License with current address. A firearm and eye/ear protection can be provided free of charge for course use if needed (use of City Arsenal firearms requires the purchase of in-store ammunition). \nPREREQUISITES: None. However\, students may find Personal Instruction or the Intro to Handgun course beneficial in preparing for the CWP course. \nAGE REQUIREMENTS: 18+ \nTIME: Approx. 8 hours \nLOCATION: 1210 Poinsett Highway Greenville\, SC. 29609
URL:https://events.cityarsenal.com/event/s-c-concealed-weapons-permit-cwp-93/
LOCATION:City Arsenal\, Inc.\, 1210 Poinsett Highway\, Greenville\, SC\, 29609\, United States
END:VEVENT
BEGIN:VEVENT
DTSTART;TZID=America/New_York:20250611T090000
DTEND;TZID=America/New_York:20250611T173000
DTSTAMP:20260420T201442
CREATED:20250329T123941Z
LAST-MODIFIED:20250329T123941Z
UID:10001001-1749632400-1749663000@events.cityarsenal.com
SUMMARY:S.C. Concealed Weapons Permit (CWP)
DESCRIPTION:S.C. Concealed Weapons Permit (CWP). The course covers the legal aspects of carrying a firearm and the laws governing the use of lethal force\, as well as safety\, firearms and ammunition options. A written and shooting test will follow the class session. \nThe cost of this class also includes fingerprinting and certified letter postage to mail the application to SLED. Plus\, students receive Fee includes two (2) complimentary Range Passes (offer does not include rentals\, ammo\, or targets). \nPLEASE NOTE: Class fees are non-refundable. If you need to reschedule\, a request must be sent by email three days prior to your class date. \nEQUIPMENT NEEDED: Handgun with at least 50 rounds of ammunition\, eye and ear protection\, and a valid South Carolina Driver License with current address. A firearm and eye/ear protection can be provided free of charge for course use if needed (use of City Arsenal firearms requires the purchase of in-store ammunition). \nPREREQUISITES: None. However\, students may find Personal Instruction or the Intro to Handgun course beneficial in preparing for the CWP course. \nAGE REQUIREMENTS: 18+ \nTIME: Approx. 8 hours \nLOCATION: 1210 Poinsett Highway Greenville\, SC. 29609
URL:https://events.cityarsenal.com/event/s-c-concealed-weapons-permit-cwp-92/
LOCATION:City Arsenal\, Inc.\, 1210 Poinsett Highway\, Greenville\, SC\, 29609\, United States
END:VEVENT
BEGIN:VEVENT
DTSTART;TZID=America/New_York:20250601T090000
DTEND;TZID=America/New_York:20250601T173000
DTSTAMP:20260420T201442
CREATED:20250329T123754Z
LAST-MODIFIED:20250329T123754Z
UID:10000998-1748768400-1748799000@events.cityarsenal.com
SUMMARY:S.C. Concealed Weapons Permit (CWP)
DESCRIPTION:S.C. Concealed Weapons Permit (CWP). The course covers the legal aspects of carrying a firearm and the laws governing the use of lethal force\, as well as safety\, firearms and ammunition options. A written and shooting test will follow the class session. \nThe cost of this class also includes fingerprinting and certified letter postage to mail the application to SLED. Plus\, students receive Fee includes two (2) complimentary Range Passes (offer does not include rentals\, ammo\, or targets). \nPLEASE NOTE: Class fees are non-refundable. If you need to reschedule\, a request must be sent by email three days prior to your class date. \nEQUIPMENT NEEDED: Handgun with at least 50 rounds of ammunition\, eye and ear protection\, and a valid South Carolina Driver License with current address. A firearm and eye/ear protection can be provided free of charge for course use if needed (use of City Arsenal firearms requires the purchase of in-store ammunition). \nPREREQUISITES: None. However\, students may find Personal Instruction or the Intro to Handgun course beneficial in preparing for the CWP course. \nAGE REQUIREMENTS: 18+ \nTIME: Approx. 8 hours \nLOCATION: 1210 Poinsett Highway Greenville\, SC. 29609
URL:https://events.cityarsenal.com/event/s-c-concealed-weapons-permit-cwp-89/
LOCATION:City Arsenal\, Inc.\, 1210 Poinsett Highway\, Greenville\, SC\, 29609\, United States
END:VEVENT
BEGIN:VEVENT
DTSTART;TZID=America/New_York:20250531T090000
DTEND;TZID=America/New_York:20250531T173000
DTSTAMP:20260420T201442
CREATED:20250329T123722Z
LAST-MODIFIED:20250329T123722Z
UID:10000997-1748682000-1748712600@events.cityarsenal.com
SUMMARY:S.C. Concealed Weapons Permit (CWP)
DESCRIPTION:S.C. Concealed Weapons Permit (CWP). The course covers the legal aspects of carrying a firearm and the laws governing the use of lethal force\, as well as safety\, firearms and ammunition options. A written and shooting test will follow the class session. \nThe cost of this class also includes fingerprinting and certified letter postage to mail the application to SLED. Plus\, students receive Fee includes two (2) complimentary Range Passes (offer does not include rentals\, ammo\, or targets). \nPLEASE NOTE: Class fees are non-refundable. If you need to reschedule\, a request must be sent by email three days prior to your class date. \nEQUIPMENT NEEDED: Handgun with at least 50 rounds of ammunition\, eye and ear protection\, and a valid South Carolina Driver License with current address. A firearm and eye/ear protection can be provided free of charge for course use if needed (use of City Arsenal firearms requires the purchase of in-store ammunition). \nPREREQUISITES: None. However\, students may find Personal Instruction or the Intro to Handgun course beneficial in preparing for the CWP course. \nAGE REQUIREMENTS: 18+ \nTIME: Approx. 8 hours \nLOCATION: 1210 Poinsett Highway Greenville\, SC. 29609
URL:https://events.cityarsenal.com/event/s-c-concealed-weapons-permit-cwp-88/
LOCATION:City Arsenal\, Inc.\, 1210 Poinsett Highway\, Greenville\, SC\, 29609\, United States
END:VEVENT
BEGIN:VEVENT
DTSTART;TZID=America/New_York:20250528T090000
DTEND;TZID=America/New_York:20250528T173000
DTSTAMP:20260420T201442
CREATED:20250329T123647Z
LAST-MODIFIED:20250329T123647Z
UID:10000996-1748422800-1748453400@events.cityarsenal.com
SUMMARY:S.C. Concealed Weapons Permit (CWP)
DESCRIPTION:S.C. Concealed Weapons Permit (CWP). The course covers the legal aspects of carrying a firearm and the laws governing the use of lethal force\, as well as safety\, firearms and ammunition options. A written and shooting test will follow the class session. \nThe cost of this class also includes fingerprinting and certified letter postage to mail the application to SLED. Plus\, students receive Fee includes two (2) complimentary Range Passes (offer does not include rentals\, ammo\, or targets). \nPLEASE NOTE: Class fees are non-refundable. If you need to reschedule\, a request must be sent by email three days prior to your class date. \nEQUIPMENT NEEDED: Handgun with at least 50 rounds of ammunition\, eye and ear protection\, and a valid South Carolina Driver License with current address. A firearm and eye/ear protection can be provided free of charge for course use if needed (use of City Arsenal firearms requires the purchase of in-store ammunition). \nPREREQUISITES: None. However\, students may find Personal Instruction or the Intro to Handgun course beneficial in preparing for the CWP course. \nAGE REQUIREMENTS: 18+ \nTIME: Approx. 8 hours \nLOCATION: 1210 Poinsett Highway Greenville\, SC. 29609
URL:https://events.cityarsenal.com/event/s-c-concealed-weapons-permit-cwp-87/
LOCATION:City Arsenal\, Inc.\, 1210 Poinsett Highway\, Greenville\, SC\, 29609\, United States
END:VEVENT
BEGIN:VEVENT
DTSTART;TZID=America/New_York:20250527T173000
DTEND;TZID=America/New_York:20250527T203000
DTSTAMP:20260420T201442
CREATED:20250411T170513Z
LAST-MODIFIED:20250506T145818Z
UID:10001027-1748367000-1748377800@events.cityarsenal.com
SUMMARY:Intro To Handguns
DESCRIPTION:This course is designed to introduce new handgun owners\, or those considering their first firearm purchase\, to the basic use\, safety and maintenance of personal firearms. Students will learn about a variety of available handguns and ammunition. Into To Handguns is also excellent preparation for the SC Concealed Weapons Permit course or any other handgun training. Fee includes two (2) complimentary Range Passes (does not include rentals\, ammo\, and targets). \nPLEASE NOTE: Class fees are non-refundable. If you need to reschedule\, a request must be sent by email three days prior to your class date. \nTIME: Approx. 3.5 hours \nEQUIPMENT NEEDED: Handgun with 50 rounds of ammunition\, eye and ear protection\, and a valid driver license. If needed\, a firearm and ear protection can be provided free of charge for course use. Eye protection and ammunition are also available for purchase (use of City Arsenal firearms requires the purchase of in-store ammunition). \nPREREQUISITES: None. \nACTIVITIES INVOLVED: Classroom and range session \nIncludes Fee includes two (2) complimentary Range Passes (offer does not include rentals\, ammo\, and targets). \nLOCATION: 1210 Poinsett Highway Greenville\, SC. 29609
URL:https://events.cityarsenal.com/event/intro-to-handguns-3/
LOCATION:City Arsenal\, Inc.\, 1210 Poinsett Highway\, Greenville\, SC\, 29609\, United States
END:VEVENT
BEGIN:VEVENT
DTSTART;TZID=America/New_York:20250524T090000
DTEND;TZID=America/New_York:20250524T173000
DTSTAMP:20260420T201442
CREATED:20250329T123506Z
LAST-MODIFIED:20250329T123506Z
UID:10000994-1748077200-1748107800@events.cityarsenal.com
SUMMARY:S.C. Concealed Weapons Permit (CWP)
DESCRIPTION:S.C. Concealed Weapons Permit (CWP). The course covers the legal aspects of carrying a firearm and the laws governing the use of lethal force\, as well as safety\, firearms and ammunition options. A written and shooting test will follow the class session. \nThe cost of this class also includes fingerprinting and certified letter postage to mail the application to SLED. Plus\, students receive Fee includes two (2) complimentary Range Passes (offer does not include rentals\, ammo\, or targets). \nPLEASE NOTE: Class fees are non-refundable. If you need to reschedule\, a request must be sent by email three days prior to your class date. \nEQUIPMENT NEEDED: Handgun with at least 50 rounds of ammunition\, eye and ear protection\, and a valid South Carolina Driver License with current address. A firearm and eye/ear protection can be provided free of charge for course use if needed (use of City Arsenal firearms requires the purchase of in-store ammunition). \nPREREQUISITES: None. However\, students may find Personal Instruction or the Intro to Handgun course beneficial in preparing for the CWP course. \nAGE REQUIREMENTS: 18+ \nTIME: Approx. 8 hours \nLOCATION: 1210 Poinsett Highway Greenville\, SC. 29609
URL:https://events.cityarsenal.com/event/s-c-concealed-weapons-permit-cwp-85/
LOCATION:City Arsenal\, Inc.\, 1210 Poinsett Highway\, Greenville\, SC\, 29609\, United States
END:VEVENT
BEGIN:VEVENT
DTSTART;TZID=America/New_York:20250520T173000
DTEND;TZID=America/New_York:20250520T203000
DTSTAMP:20260420T201442
CREATED:20250506T144651Z
LAST-MODIFIED:20250506T145931Z
UID:10001028-1747762200-1747773000@events.cityarsenal.com
SUMMARY:Intro To Handguns
DESCRIPTION:This course is designed to introduce new handgun owners\, or those considering their first firearm purchase\, to the basic use\, safety and maintenance of personal firearms. Students will learn about a variety of available handguns and ammunition. Into To Handguns is also excellent preparation for the SC Concealed Weapons Permit course or any other handgun training. Fee includes two (2) complimentary Range Passes (does not include rentals\, ammo\, and targets). \nPLEASE NOTE: Class fees are non-refundable. If you need to reschedule\, a request must be sent by email three days prior to your class date. \nTIME: Approx. 3.5 hours \nEQUIPMENT NEEDED: Handgun with 50 rounds of ammunition\, eye and ear protection\, and a valid driver license. If needed\, a firearm and ear protection can be provided free of charge for course use. Eye protection and ammunition are also available for purchase (use of City Arsenal firearms requires the purchase of in-store ammunition). \nPREREQUISITES: None. \nACTIVITIES INVOLVED: Classroom and range session \nIncludes Fee includes two (2) complimentary Range Passes (offer does not include rentals\, ammo\, and targets). \nLOCATION: 1210 Poinsett Highway Greenville\, SC. 29609
URL:https://events.cityarsenal.com/event/intro-to-handguns-5/
LOCATION:City Arsenal\, Inc.\, 1210 Poinsett Highway\, Greenville\, SC\, 29609\, United States
END:VEVENT
END:VCALENDAR